BEGIN:VCALENDAR
VERSION:2.0
PRODID:-//Tukios.com/
BEGIN:VEVENT
UID:8c4d654c-bd1f-4576-aee0-f1ff9e144d39@www.dahlkefh.com
DTSTAMP:20260421T090038Z
DTSTART:20260422T210000Z
DTEND:20260423T000000Z
SUMMARY:Visitation 
DESCRIPTION:
URL:https://www.dahlkefh.com/obituaries/jacqueline-wendlandt
LOCATION:Dahlke Life Celebration Center 176 N. Bridge St.  Manawa WI 
	54949
GEO:44.4677577;-88.9197199
END:VEVENT
END:VCALENDAR