BEGIN:VCALENDAR
VERSION:2.0
PRODID:-//Tukios.com/
BEGIN:VEVENT
UID:93f0260f-b0e0-4600-934b-2e9c4b772ab9@www.dahlkefh.com
DTSTAMP:20260421T085157Z
DTSTART:20260423T160000Z
DTEND:20260423T170000Z
SUMMARY:Funeral Mass
DESCRIPTION:
URL:https://www.dahlkefh.com/obituaries/jacqueline-wendlandt
LOCATION:Sacred Heart Catholic Church 614 S. Bridge St.  Manawa WI 54949
GEO:44.4607962;-88.9195078
END:VEVENT
END:VCALENDAR