BEGIN:VCALENDAR
VERSION:2.0
PRODID:-//Tukios.com/
BEGIN:VEVENT
UID:f222b2c6-0e6e-458e-833d-acf26c7958fe@www.dahlkefh.com
DTSTAMP:20260421T084959Z
DTSTART:20260423T143000Z
DTEND:20260423T154500Z
SUMMARY:Visitation
DESCRIPTION:
URL:https://www.dahlkefh.com/obituaries/jacqueline-wendlandt
LOCATION: 614 S. Bridge St  Manawa WI 54949
GEO:44.4608285;-88.9194953
END:VEVENT
END:VCALENDAR