BEGIN:VCALENDAR
VERSION:2.0
PRODID:-//Tukios.com/
BEGIN:VEVENT
UID:fe32f037-f409-4511-8587-6e8b94051372@www.dahlkefh.com
DTSTAMP:20260424T214910Z
DTSTART:20260501T140000Z
DTEND:20260501T154500Z
SUMMARY:Visitation 
DESCRIPTION:
URL:https://www.dahlkefh.com/obituaries/ruth-nemmetz
LOCATION:St. Mark Lutheran Church N7534 Church St.  Manawa WI 54949
GEO:44.5118473;-88.9013
END:VEVENT
END:VCALENDAR