BEGIN:VCALENDAR
VERSION:2.0
PRODID:-//Tukios.com/
BEGIN:VEVENT
UID:74cc4b14-f643-45e8-bbd2-69f8654e7ee9@www.dahlkefh.com
DTSTAMP:20260424T214233Z
DTSTART:20260501T160000Z
DTEND:20260501T170000Z
SUMMARY:Funeral Service
DESCRIPTION:
URL:https://www.dahlkefh.com/obituaries/ruth-nemmetz
LOCATION:St. Mark Lutheran Church N7534 Church St.  Manawa WI 54949
GEO:44.5118473;-88.9013
END:VEVENT
END:VCALENDAR