BEGIN:VCALENDAR
VERSION:2.0
PRODID:-//Tukios.com/
BEGIN:VEVENT
UID:9acddf6a-e744-46e2-a602-b8b72b2f37b0@www.dahlkefh.com
DTSTAMP:20260425T111508Z
DTSTART:20260425T150000Z
DTEND:20260425T160000Z
SUMMARY:Celebration of Life
DESCRIPTION:
URL:https://www.dahlkefh.com/obituaries/tim-schultz
LOCATION: N4715 State Road 22 - 110  Manawa WI 54949
GEO:44.4095082;-88.9376704
END:VEVENT
END:VCALENDAR